<?xml version="1.0" encoding="UTF-8" standalone="no"?>
<metadata>
<idinfo>
<citation>
<citeinfo>
<origin>Bohannan-Huston, Inc.</origin>
<pubdate>20071215</pubdate>
<pubtime>Unknown</pubtime>
<title Sync="TRUE">Aerials.DBO.AERIAL2007</title>
<edition>2007</edition>
<geoform Sync="TRUE">SDE raster digital data</geoform>
<serinfo>
<sername>TxDOT 17 County Orthoimagery</sername>
<issue>2007</issue>
</serinfo>
<pubinfo>
<pubplace>Albuquerque, NM</pubplace>
<publish>Bohannan-Huston, Inc.</publish>
</pubinfo>
<ftname Sync="TRUE">Aerials.DBO.AERIAL2007</ftname>
<onlink Sync="FALSE">withheld</onlink>
</citeinfo>
</citation>
<descript>
<abstract>This tile is part of an orthophotography project covering 17 counties in north central Texas. The tiles are images which depict color aerial photographs. Lens and terrain distortion has been removed and tonal differences between adjacent images have been minimized to form a mosaic of the entire 17 county project area. Orthorectified imagery is assumed to depict features at ground level, so above ground features may show terrain distortion. The only exceptions to this are bridges and elevated roads, which have been checked for distortion and manually replaced by their previous unrectified versions.</abstract>
<purpose>The orthophotography, ordered by the Dallas district of the Texas Department of Transportation (TxDOT), is intended to aid in engineering planning. It is not intended to furnish measurements accurate enough for engineering design work.</purpose>
<supplinf>Neither the Texas Department of Transportation (TxDOT), North Central Texas Council of Goverments (NCTCOG), nor Bohannan-Huston, Inc. (BHI) assumes liability for misuse of the data. Data should be used at the scale for which they were intended. No warranty, expressed, or implied, is made by the TxDOT, NCTCOG nor BHI regarding the utility of the data on any other system, nor shall the act of distribution constitute such warranty.</supplinf>
<langdata Sync="TRUE">en</langdata>
</descript>
<timeperd>
<timeinfo>
<rngdates>
<begdate>20070125</begdate>
<begtime>112031</begtime>
<enddate>20070128</enddate>
<endtime>135052</endtime>
</rngdates>
<sngdate>
<caldate>REQUIRED: The year (and optionally month, or month and day) for which the data set corresponds to the ground.</caldate>
</sngdate>
</timeinfo>
<current>ground condition</current>
</timeperd>
<status>
<progress>Complete</progress>
<update>None planned</update>
</status>
<spdom>
<bounding>
<westbc>-97.2394582356036</westbc>
<eastbc>-97.2296890871484</eastbc>
<northbc>32.9804503739697</northbc>
<southbc>32.9861022769968</southbc>
</bounding>
<lboundng>
<leftbc Sync="TRUE">2354990.000000</leftbc>
<rightbc Sync="TRUE">2421010.000000</rightbc>
<bottombc Sync="TRUE">7041990.000000</bottombc>
<topbc Sync="TRUE">7084010.000000</topbc>
</lboundng>
</spdom>
<keywords>
<theme>
<themekt>ISO 19115 Topic Categories</themekt>
<themekey>imageryBaseMapsEarthCover</themekey>
</theme>
<theme>
<themekt>USGS Enterprise Web Thesaurus</themekt>
<themekey>aerial photographs</themekey>
<themekey>aerial photos</themekey>
<themekey>air photos</themekey>
<themekey>orthoimagery</themekey>
<themekey>orthophotographs</themekey>
<themekey>photography</themekey>
<themekey>remote sensing</themekey>
</theme>
<place>
<placekt>Geographic Names Information System</placekt>
<placekey>US</placekey>
<placekey>Texas</placekey>
<placekey>Tarrant</placekey>
</place>
</keywords>
<accconst>None.</accconst>
<useconst>None.</useconst>
<ptcontac>
<cntinfo>
<cntorgp>
<cntorg>Bohannan-Huston, Inc.</cntorg>
<cntper>Dennis Sandin</cntper>
</cntorgp>
<cntpos>Senior Vice President &amp; Managing Principal</cntpos>
<cntaddr>
<addrtype>mailing and physical address</addrtype>
<address>7500 Jefferson St NE</address>
<address>Courtyard I</address>
<city>Albuquerque</city>
<state>NM</state>
<postal>87109-4335</postal>
<country>USA</country>
</cntaddr>
<cntvoice>505-798-7925</cntvoice>
<cntfax>505-798-7932</cntfax>
<cntemail>dsandin@bhinc.com</cntemail>
<hours>8-5 M-Th 8-4:30 F (GMT -7)</hours>
<cntinst>Contact Mr. Sandin and he will put the caller in touch with the appropriate technical staff.</cntinst>
</cntinfo>
</ptcontac>
<datacred>The Texas Department of Transportation (TxDOT) generously funded the creation of the entire dataset.</datacred>
<secinfo>
<secsys>United States Department of Defense</secsys>
<secclass>Unclassified</secclass>
<sechandl>None.</sechandl>
</secinfo>
<native Sync="FALSE">ESRI ArcCatalog 9.2.5.1450</native>
<natvform Sync="FALSE">Raster Dataset</natvform>
</idinfo>
<dataqual>
<attracc>
<attraccr>Source images are collected with a digital sensor with 4096 brightness values (12 bit) per band. Each image's histogram is clipped at high and low values to increase contrast, and then a digital dodge is performed in order to reduce vignetting of brightness and darkness trends across the frame.</attraccr>
</attracc>
<logic>Horizontal accuracy of all ground control visible in imagery shows a displacement of not more than three pixels (one and a half feet). Color balance is consistent across the project.</logic>
<complete>Aerotriangulation results for all raw imagery was checked for horizontal accuracy. All visible control points were checked in orthorectified imagery for horizontal accuracy. All bridges were checked for warping during the orthorectification process and corrected. All imagery was checked for consistency of color balance across the entire seventeen county project area. Five percent of mosaics were chosen at random for total visual inspection at full resolution to determine frequency of misplaced seamlines.</complete>
<posacc>
<horizpa>
<horizpar>The horizontal positional accuracy and the assurance of that accuracy depend, in part, on the accuracy of the data inputs to the rectification process (elevation data, aerotriangulation control and methods, camera calibration, and source imagery parameters).</horizpar>
<qhorizpa>
<horizpav>1.5</horizpav>
<horizpae>Control points that were used to aerotriangulate the positions of the images at time of exposure were identified in the orthorectified images and found to be displaced not more than three pixels. All other ground features therefore should not be displaced from their true locations by more than an average of three pixels. Features not on the ground, such as building rooftops or trees, may be displaced.</horizpae>
</qhorizpa>
</horizpa>
</posacc>
<lineage>
<srcinfo>
<srccite>
<citeinfo>
<origin>3001, Inc. and Photo Science, Inc.</origin>
<pubdate>Unpublished material</pubdate>
<title>TxDOT 17 County Orthoimagery</title>
<geoform>remote-sensing image</geoform>
<othercit>PHOTO,EASTING,NORTHING,ELEVATION,OMEGA,PHI,KAPPA,DATE,TIME,SOURCE|
231115dent05,2355299.08,7043733.85,5520.97,-2.36468,-0.82133,90.27632,20070125,112031,PSI|
232114dent05,2360202.98,7044393.64,5504.18,-0.62498,-0.70131,-89.96738,20070125,114026,PSI|
232115dent05,2360203.9,7042919.16,5505.7,-0.62003,-0.70393,-89.92245,20070125,114029,PSI|
427002tarr02,2355293.87,7042095.88,5327.41,0.6742,0.85709,92.32007,20070128,132335,PSI|
428002tarr02,2360217.84,7042092.47,5324.24,0.62996,0.95733,92.3081,20070128,135052,PSI|
</othercit>
</citeinfo>
</srccite>
<srcscale>12700</srcscale>
<typesrc>disc</typesrc>
<srctime>
<timeinfo>
<rngdates>
<begdate>20070125</begdate>
<begtime>112031</begtime>
<enddate>20070128</enddate>
<endtime>135052</endtime>
</rngdates>
</timeinfo>
<srccurr>ground condition</srccurr>
</srctime>
<srccitea>IMAGE</srccitea>
<srccontr>Raw image data was captured using an Intergraph Digital Mapping Camera (DMC) having a focal length of 120mm, an effective charge coupled device (CCD) array size of 168mm across track (left to right) by 95mm along track (top to bottom), and a pixel size in its panchromatic band of 12 by 12 microns.</srccontr>
</srcinfo>
<srcinfo>
<srccite>
<citeinfo>
<origin>3001, Inc. and Photo Science, Inc.</origin>
<pubdate>Unpublished material</pubdate>
<title>Airborne GPSIMU</title>
<geoform>tabular digital data</geoform>
</citeinfo>
</srccite>
<typesrc>disc</typesrc>
<srctime>
<timeinfo>
<rngdates>
<begdate>20070125</begdate>
<begtime>112031</begtime>
<enddate>20070128</enddate>
<endtime>135052</endtime>
</rngdates>
</timeinfo>
<srccurr>ground condition</srccurr>
</srctime>
<srccitea>ABGPSIMU</srccitea>
<srccontr>Airborne GPS positions were computed by the acquisition company and used as control in the aerotriangulation process.</srccontr>
</srcinfo>
<srcinfo>
<srccite>
<citeinfo>
<origin>Bohannan-Huston, Inc.</origin>
<pubdate>Unpublished material</pubdate>
<title>Aerotriangulation</title>
</citeinfo>
</srccite>
<typesrc>disc</typesrc>
<srctime>
<timeinfo>
<rngdates>
<begdate>20070125</begdate>
<begtime>112031</begtime>
<enddate>20070128</enddate>
<endtime>135052</endtime>
</rngdates>
</timeinfo>
<srccurr>ground condition</srccurr>
</srctime>
<srccitea>AT</srccitea>
<srccontr>Aerotriangulation provides the exterior orientation parameters ( X, Y, Z, omega, phi, kappa) for input to the orthorectification process.</srccontr>
</srcinfo>
<srcinfo>
<srccite>
<citeinfo>
<origin>Bohannan-Huston, Inc.</origin>
<pubdate>Unpublished material</pubdate>
<title>Digital Elevation Model</title>
<geoform>raster digital data</geoform>
</citeinfo>
</srccite>
<typesrc>disc</typesrc>
<srctime>
<timeinfo>
<rngdates>
<begdate>20070125</begdate>
<begtime>112031</begtime>
<enddate>20070128</enddate>
<endtime>135052</endtime>
</rngdates>
</timeinfo>
<srccurr>ground condition</srccurr>
</srctime>
<srccitea>DEM</srccitea>
<srccontr>Elevation data derived from the same aerial photography, autocorrelated and filtered, was used as input to provide ground elevations for the orthorectification process.</srccontr>
</srcinfo>
<procstep>
<procdesc>Control panels were laid down and their positions recorded with static GPS. Positions were then corrected and network adjusted.</procdesc>
<procdate>2007</procdate>
<proccont>
<cntinfo>
<cntorgp>
<cntorg>Bohannan-Huston, Inc.</cntorg>
<cntper>Dennis Sandin</cntper>
</cntorgp>
<cntpos>Senior Vice President &amp; Managing Principal</cntpos>
<cntaddr>
<addrtype>mailing and physical address</addrtype>
<address>7500 Jefferson St NE</address>
<address>Courtyard I</address>
<city>Albuquerque</city>
<state>NM</state>
<postal>87109-4335</postal>
<country>USA</country>
</cntaddr>
<cntvoice>505-798-7925</cntvoice>
<cntfax>505-798-7932</cntfax>
<cntemail>dsandin@bhinc.com</cntemail>
<hours>8-5 M-Th 8-4:30 F (GMT -7)</hours>
<cntinst>Contact Mr. Sandin and he will put the caller in touch with the appropriate technical staff.</cntinst>
</cntinfo>
</proccont>
</procstep>
<procstep>
<procdesc>Raw image data was captured using an Intergraph Digital Mapping Camera (DMC) having a focal length of 120mm, an effective charge coupled device (CCD) array size of 168mm across track (left to right) by 95mm along track (top to bottom), and a pixel size in its panchromatic band of 12 by 12 microns. Output images were created using post-processing software which removes lens distortion and pan-sharpens color data with a panchromatic image taken at the same instant. Each image had its histogram clipped to optimize contrast, and was sliced to reduce it from a 12 bit image (4096 values per band) to an 8 bit image (256 values per band).</procdesc>
<procdate>2007</procdate>
<proccont>
<cntinfo>
<cntorgp>
<cntorg>3001, Inc.</cntorg>
</cntorgp>
<cntaddr>
<addrtype>mailing and physical address</addrtype>
<address>501 Robert Blvd</address>
<address>Floor 2</address>
<city>Slidell</city>
<state>LA</state>
<postal>70458</postal>
<country>USA</country>
</cntaddr>
<cntvoice>985-661-3001</cntvoice>
<cntfax>985-649-5082</cntfax>
</cntinfo>
</proccont>
</procstep>
<procstep>
<procdesc>Airborne GPS/IMU data were collected in flight as images were captured and post-processed and network adjusted.</procdesc>
<procdate>2007</procdate>
<proccont>
<cntinfo>
<cntorgp>
<cntorg>3001, Inc.</cntorg>
</cntorgp>
<cntaddr>
<addrtype>mailing and physical address</addrtype>
<address>501 Robert Blvd</address>
<address>Floor 2</address>
<city>Slidell</city>
<state>LA</state>
<postal>70458</postal>
<country>USA</country>
</cntaddr>
<cntvoice>985-661-3001</cntvoice>
<cntfax>985-649-5082</cntfax>
</cntinfo>
</proccont>
</procstep>
<procstep>
<procdesc>Images were aerotriangulated to finalize their external orientation.</procdesc>
<procdate>2007</procdate>
<proccont>
<cntinfo>
<cntorgp>
<cntorg>Bohannan-Huston, Inc.</cntorg>
<cntper>Dennis Sandin</cntper>
</cntorgp>
<cntpos>Senior Vice President &amp; Managing Principal</cntpos>
<cntaddr>
<addrtype>mailing and physical address</addrtype>
<address>7500 Jefferson St NE</address>
<address>Courtyard I</address>
<city>Albuquerque</city>
<state>NM</state>
<postal>87109-4335</postal>
<country>USA</country>
</cntaddr>
<cntvoice>505-798-7925</cntvoice>
<cntfax>505-798-7932</cntfax>
<cntemail>dsandin@bhinc.com</cntemail>
<hours>8-5 M-Th 8-4:30 F (GMT -7)</hours>
<cntinst>Contact Mr. Sandin and he will put the caller in touch with the appropriate technical staff.</cntinst>
</cntinfo>
</proccont>
</procstep>
<procstep>
<procdesc>Images were orthorectified to remove distortions caused by changes in the elevation of the terrain. The orthorectification process used an exponential interpolation method and a ground elevation sampling interval of four pixels.</procdesc>
<procdate>2007</procdate>
<proccont>
<cntinfo>
<cntorgp>
<cntorg>Bohannan-Huston, Inc.</cntorg>
<cntper>Dennis Sandin</cntper>
</cntorgp>
<cntpos>Senior Vice President &amp; Managing Principal</cntpos>
<cntaddr>
<addrtype>mailing and physical address</addrtype>
<address>7500 Jefferson St NE</address>
<address>Courtyard I</address>
<city>Albuquerque</city>
<state>NM</state>
<postal>87109-4335</postal>
<country>USA</country>
</cntaddr>
<cntvoice>505-798-7925</cntvoice>
<cntfax>505-798-7932</cntfax>
<cntemail>dsandin@bhinc.com</cntemail>
<hours>8-5 M-Th 8-4:30 F (GMT -7)</hours>
<cntinst>Contact Mr. Sandin and he will put the caller in touch with the appropriate technical staff.</cntinst>
</cntinfo>
</proccont>
</procstep>
<procstep>
<procdesc>Images were color balanced and color corrected individually to ensure color consistent between flight lines, times of day, and the two different data acquisition companies.</procdesc>
<procdate>2007</procdate>
<proccont>
<cntinfo>
<cntorgp>
<cntorg>Bohannan-Huston, Inc.</cntorg>
<cntper>Dennis Sandin</cntper>
</cntorgp>
<cntpos>Senior Vice President &amp; Managing Principal</cntpos>
<cntaddr>
<addrtype>mailing and physical address</addrtype>
<address>7500 Jefferson St NE</address>
<address>Courtyard I</address>
<city>Albuquerque</city>
<state>NM</state>
<postal>87109-4335</postal>
<country>USA</country>
</cntaddr>
<cntvoice>505-798-7925</cntvoice>
<cntfax>505-798-7932</cntfax>
<cntemail>dsandin@bhinc.com</cntemail>
<hours>8-5 M-Th 8-4:30 F (GMT -7)</hours>
<cntinst>Contact Mr. Sandin and he will put the caller in touch with the appropriate technical staff.</cntinst>
</cntinfo>
</proccont>
</procstep>
<procstep>
<procdesc>Images were mosaicked into large aggregate tiles.</procdesc>
<procdate>2007</procdate>
<proccont>
<cntinfo>
<cntorgp>
<cntorg>Bohannan-Huston, Inc.</cntorg>
<cntper>Dennis Sandin</cntper>
</cntorgp>
<cntpos>Senior Vice President &amp; Managing Principal</cntpos>
<cntaddr>
<addrtype>mailing and physical address</addrtype>
<address>7500 Jefferson St NE</address>
<address>Courtyard I</address>
<city>Albuquerque</city>
<state>NM</state>
<postal>87109-4335</postal>
<country>USA</country>
</cntaddr>
<cntvoice>505-798-7925</cntvoice>
<cntfax>505-798-7932</cntfax>
<cntemail>dsandin@bhinc.com</cntemail>
<hours>8-5 M-Th 8-4:30 F (GMT -7)</hours>
<cntinst>Contact Mr. Sandin and he will put the caller in touch with the appropriate technical staff.</cntinst>
</cntinfo>
</proccont>
</procstep>
<procstep>
<procdesc>Aggregate tiles were again tonally balanced and color corrected with entire project in view. A second global tilt was performed to minimize color changes across images. Tiles were cut from the mosaic for review.</procdesc>
<procdate>2007</procdate>
<proccont>
<cntinfo>
<cntorgp>
<cntorg>Bohannan-Huston, Inc.</cntorg>
<cntper>Dennis Sandin</cntper>
</cntorgp>
<cntpos>Senior Vice President &amp; Managing Principal</cntpos>
<cntaddr>
<addrtype>mailing and physical address</addrtype>
<address>7500 Jefferson St NE</address>
<address>Courtyard I</address>
<city>Albuquerque</city>
<state>NM</state>
<postal>87109-4335</postal>
<country>USA</country>
</cntaddr>
<cntvoice>505-798-7925</cntvoice>
<cntfax>505-798-7932</cntfax>
<cntemail>dsandin@bhinc.com</cntemail>
<hours>8-5 M-Th 8-4:30 F (GMT -7)</hours>
<cntinst>Contact Mr. Sandin and he will put the caller in touch with the appropriate technical staff.</cntinst>
</cntinfo>
</proccont>
</procstep>
<procstep>
<procdesc>Images were checked for gaps, smears caused by missing surface, and these were fixed and re-created. Above ground features such as bridges warped by the orthorectification or excessive building lean were patched in with versions from unrectified photos. Obvious color differences that remained between source images were feathered. Five percent of images selected at random were reviewed at full resolution for any other issues.</procdesc>
<procdate>2007</procdate>
<proccont>
<cntinfo>
<cntorgp>
<cntorg>Bohannan-Huston, Inc.</cntorg>
<cntper>Dennis Sandin</cntper>
</cntorgp>
<cntpos>Senior Vice President &amp; Managing Principal</cntpos>
<cntaddr>
<addrtype>mailing and physical address</addrtype>
<address>7500 Jefferson St NE</address>
<address>Courtyard I</address>
<city>Albuquerque</city>
<state>NM</state>
<postal>87109-4335</postal>
<country>USA</country>
</cntaddr>
<cntvoice>505-798-7925</cntvoice>
<cntfax>505-798-7932</cntfax>
<cntemail>dsandin@bhinc.com</cntemail>
<hours>8-5 M-Th 8-4:30 F (GMT -7)</hours>
<cntinst>Contact Mr. Sandin and he will put the caller in touch with the appropriate technical staff.</cntinst>
</cntinfo>
</proccont>
</procstep>
<procstep>
<procdesc>The images were cut into smaller 3020ft by 2020ft tiles.</procdesc>
<procdate>2007</procdate>
<proccont>
<cntinfo>
<cntorgp>
<cntorg>Bohannan-Huston, Inc.</cntorg>
<cntper>Dennis Sandin</cntper>
</cntorgp>
<cntpos>Senior Vice President &amp; Managing Principal</cntpos>
<cntaddr>
<addrtype>mailing and physical address</addrtype>
<address>7500 Jefferson St NE</address>
<address>Courtyard I</address>
<city>Albuquerque</city>
<state>NM</state>
<postal>87109-4335</postal>
<country>USA</country>
</cntaddr>
<cntvoice>505-798-7925</cntvoice>
<cntfax>505-798-7932</cntfax>
<cntemail>dsandin@bhinc.com</cntemail>
<hours>8-5 M-Th 8-4:30 F (GMT -7)</hours>
<cntinst>Contact Mr. Sandin and he will put the caller in touch with the appropriate technical staff.</cntinst>
</cntinfo>
</proccont>
</procstep>
<procstep>
<procdesc Sync="TRUE">Metadata imported.</procdesc>
<srcused Sync="FALSE">withheld</srcused>
<date Sync="TRUE">20080616</date>
<time Sync="TRUE">10404400</time>
</procstep>
</lineage>
<cloud>0</cloud>
</dataqual>
<spdoinfo>
<indspref>Tarrant</indspref>
<direct Sync="TRUE">Raster</direct>
<rastinfo>
<rasttype Sync="TRUE">Pixel</rasttype>
<rowcount Sync="TRUE">84040</rowcount>
<colcount Sync="TRUE">132040</colcount>
<vrtcount Sync="TRUE">1</vrtcount>
<rastxsz Sync="TRUE">0.500000</rastxsz>
<rastysz Sync="TRUE">0.500000</rastysz>
<rastbpp Sync="TRUE">8</rastbpp>
<rastorig Sync="TRUE">Upper Left</rastorig>
<rastcmap Sync="TRUE">FALSE</rastcmap>
<rastcomp Sync="TRUE">LZ77</rastcomp>
<rastband Sync="TRUE">3</rastband>
<rastdtyp Sync="TRUE">pixel codes</rastdtyp>
<rastifor Sync="TRUE">SDR</rastifor>
<rastplyr Sync="TRUE">TRUE</rastplyr>
</rastinfo>
</spdoinfo>
<spref>
<horizsys>
<planar>
<mapproj>
<mapprojn>Lambert Conformal Conic</mapprojn>
<lambertc>
<stdparll>32.133333</stdparll>
<stdparll>33.966667</stdparll>
<longcm>-98.500000</longcm>
<latprjo>31.666667</latprjo>
<feast>1968500.000000</feast>
<fnorth>6561666.666667</fnorth>
</lambertc>
</mapproj>
<planci>
<plance Sync="TRUE">row and column</plance>
<coordrep>
<absres Sync="TRUE">0.500000</absres>
<ordres Sync="TRUE">0.500000</ordres>
</coordrep>
<plandu>survey feet</plandu>
</planci>
</planar>
<geodetic>
<horizdn>North American Datum of 1983</horizdn>
<ellips>Geodetic Reference System 80</ellips>
<semiaxis>6378137.000000</semiaxis>
<denflat>298.257222</denflat>
</geodetic>
</horizsys>
</spref>
<distinfo>
<distrib>
<cntinfo>
<cntperp>
<cntper>Shelley Broyles</cntper>
<cntorg>North Central Texas Council of Governments</cntorg>
</cntperp>
<cntpos>GIS Analyst</cntpos>
<cntaddr>
<addrtype>mailing address</addrtype>
<address>P.O. Box 50888</address>
<city>Arlington</city>
<state>TX</state>
<postal>76005-5888</postal>
<country>USA</country>
</cntaddr>
<cntaddr>
<addrtype>physical address</addrtype>
<address>Centerpoint Two</address>
<address>616 Six Flags Dr Suite 200</address>
<city>Arlington</city>
<state>TX</state>
<postal>76011</postal>
<country>USA</country>
</cntaddr>
<cntvoice>817-695-9156</cntvoice>
<cntfax>817-640-4428</cntfax>
</cntinfo>
</distrib>
<resdesc>These aerial photos for the year 2007 are available for purchase order over the Internet. They are in TIFF format which is a de facto imagery standard for most CAD and GIS software packages.</resdesc>
<distliab>The North Central Texas Council of Governments (NCTCOG) provides these geographic data "as is" and makes no guarantee or warranty concerning the accuracy of information contained in the geographic data. NCTCOG further makes no warranties, either expressed or implied as to any other matter whatsoever, including, without limitation, the condition of the product, or its fitness for any particular purpose. The burden for determining fitness for use lies entirely with the user. Although these data have been processed successfully on computers of Bohannan-Huston, Inc. (BHI) and served by NCTCOG, no warranty, expressed or implied, is made by NCTCOG or BHI regarding the use of these data on any other system, nor does the fact of distribution constitute or imply any such warranty. In no event shall NCTCOG or BHI have any liability whatsoever for payment of any consequential, incidental, indirect, special, or tort damages of any kind, including, but not limited to, any loss of profits arising out of use of or reliance on the geographic data or arising out of the delivery, installation, operation, or support by NCTCOG.</distliab>
<stdorder>
<digform>
<digtinfo>
<formname>TIFF</formname>
<formvern>6.0</formvern>
<formspec>http://partners.adobe.com/public/developer/en/tiff/TIFF6.pdf</formspec>
<formcont>Pixels of photographic data</formcont>
<filedec>no compression applied</filedec>
<transize>70</transize>
</digtinfo>
<digtopt>
<offoptn>
<offmedia>DVD-ROM</offmedia>
<reccap>
<recden>4.7</recden>
<recdenu>Gibabytes</recdenu>
</reccap>
<recfmt>ISO 9660 with Rock Ridge Extensions</recfmt>
</offoptn>
</digtopt>
</digform>
<fees>Call for current prices</fees>
<ordering>http://www.dfwmaps.com/images/HowToOrder.pdf</ordering>
</stdorder>
<custom>http://www.dfwmaps.com/images/HowToOrder.pdf</custom>
<availabl>
<timeinfo>
<sngdate>
<caldate>2008</caldate>
</sngdate>
</timeinfo>
</availabl>
</distinfo>
<metainfo>
<metd Sync="TRUE">20080616</metd>
<metc>
<cntinfo>
<cntperp>
<cntper>Zachary L. Stauber</cntper>
<cntorg>Bohannan-Huston, Inc.</cntorg>
</cntperp>
