View In:
ArcGIS JavaScript
ArcGIS Online Map Viewer
ArcGIS Earth
ArcMap
View Footprint In:
ArcGIS Online Map Viewer
Service Description: This tile is part of an orthophotography project covering 17 counties in north central Texas. The tiles are images which depict color aerial photographs. Lens and terrain distortion has been removed and tonal differences between adjacent images have been minimized to form a mosaic of the entire 17 county project area. Orthorectified imagery is assumed to depict features at ground level, so above ground features may show terrain distortion. The only exceptions to this are bridges and elevated roads, which have been checked for distortion and manually replaced by their previous unrectified versions.
Name: Raster/2007_Ortho
Description: This tile is part of an orthophotography project covering 17 counties in north central Texas. The tiles are images which depict color aerial photographs. Lens and terrain distortion has been removed and tonal differences between adjacent images have been minimized to form a mosaic of the entire 17 county project area. Orthorectified imagery is assumed to depict features at ground level, so above ground features may show terrain distortion. The only exceptions to this are bridges and elevated roads, which have been checked for distortion and manually replaced by their previous unrectified versions.
Single Fused Map Cache: true
Tile Info:
- Height: 256
- Width: 256
- DPI: 96
-
Levels of Detail: 20
-
Level ID: 1
[ Start Tile, End Tile ]
- Resolution: 78271.5169639999
- Scale: 2.95828763795777E8
-
Level ID: 2
[ Start Tile, End Tile ]
- Resolution: 39135.7584820001
- Scale: 1.47914381897889E8
-
Level ID: 3
[ Start Tile, End Tile ]
- Resolution: 19567.8792409999
- Scale: 7.3957190948944E7
-
Level ID: 4
[ Start Tile, End Tile ]
- Resolution: 9783.93962049996
- Scale: 3.6978595474472E7
-
Level ID: 5
[ Start Tile, End Tile ]
- Resolution: 4891.96981024998
- Scale: 1.8489297737236E7
- Format: MIXED
- Compression Quality: 75.0
- LERC Error: NaN
- Origin: X: -2.0037508342787E7
Y: 2.0037508342787E7
- Spatial Reference: 102100
(3857)
Storage Info:
- Storage Format: esriMapCacheStorageModeCompactV2
- Packet Size: 128
Extent:
XMin: -1.0824655774910294E7
YMin: 3892409.035805047
XMax: -1.0800475768879756E7
YMax: 3908058.6557182567
Spatial Reference: 102100
(3857)
Initial Extent:
XMin: -1.0824655774910294E7
YMin: 3892409.035805047
XMax: -1.0800475768879756E7
YMax: 3908058.6557182567
Spatial Reference: 102100
(3857)
Full Extent:
XMin: -1.0824655774910294E7
YMin: 3892409.035805047
XMax: -1.0800475768879756E7
YMax: 3908058.6557182567
Spatial Reference: 102100
(3857)
Pixel Size X: 0.15240030480060962
Pixel Size Y: 0.15240030480060962
Band Count: 3
Pixel Type: U8
RasterFunction Infos: {"rasterFunctionInfos": [{
"name": "None",
"description": "",
"help": ""
}]}
Mensuration Capabilities: Basic
Has Histograms: true
Has Colormap: false
Has Multi Dimensions : false
Rendering Rule:
Min Scale: 144447.638572
Max Scale: 1128.497176
Copyright Text:
Service Data Type: esriImageServiceDataTypeRGB
Min Values: 0, 0, 0
Max Values: 255, 255, 255
Mean Values: 121.2479705246135, 120.88393727769851, 119.33442847002166
Standard Deviation Values: 41.356144933603154, 39.58265454833558, 37.527622535330735
Object ID Field:
Fields:
None
Default Mosaic Method: Center
Allowed Mosaic Methods:
SortField:
SortValue: null
Mosaic Operator: First
Default Compression Quality: 75
Default Resampling Method: Bilinear
Max Record Count: null
Max Image Height: 4100
Max Image Width: 15000
Max Download Image Count: null
Max Mosaic Image Count: null
Allow Raster Function: true
Allow Copy: true
Allow Analysis: true
Allow Compute TiePoints: false
Supports Statistics: false
Supports Advanced Queries: false
Use StandardizedQueries: true
Raster Type Infos:
Name: Raster Dataset
Description: Supports all ArcGIS Raster Datasets
Help:
Has Raster Attribute Table: false
Edit Fields Info: null
Ownership Based AccessControl For Rasters: null
Child Resources:
Info
Histograms
Statistics
Key Properties
Legend
Raster Function Infos
Supported Operations:
Export Image
Identify
Measure
Compute Histograms
Compute Statistics Histograms
Get Samples
Compute Class Statistics
Query Boundary
Compute Pixel Location
Compute Angles
Validate
Project